BEGIN:VCALENDAR
VERSION:2.0
PRODID:-//Yoga Studio in Dublin, CA - Pilates, Strength &amp; Personal Training - ECPv6.15.17.1//NONSGML v1.0//EN
CALSCALE:GREGORIAN
METHOD:PUBLISH
X-WR-CALNAME:Yoga Studio in Dublin, CA - Pilates, Strength &amp; Personal Training
X-ORIGINAL-URL:https://wellstudiodublin.com
X-WR-CALDESC:Events for Yoga Studio in Dublin, CA - Pilates, Strength &amp; Personal Training
REFRESH-INTERVAL;VALUE=DURATION:PT1H
X-Robots-Tag:noindex
X-PUBLISHED-TTL:PT1H
BEGIN:VTIMEZONE
TZID:America/Los_Angeles
BEGIN:DAYLIGHT
TZOFFSETFROM:-0800
TZOFFSETTO:-0700
TZNAME:PDT
DTSTART:20250309T100000
END:DAYLIGHT
BEGIN:STANDARD
TZOFFSETFROM:-0700
TZOFFSETTO:-0800
TZNAME:PST
DTSTART:20251102T090000
END:STANDARD
BEGIN:DAYLIGHT
TZOFFSETFROM:-0800
TZOFFSETTO:-0700
TZNAME:PDT
DTSTART:20260308T100000
END:DAYLIGHT
BEGIN:STANDARD
TZOFFSETFROM:-0700
TZOFFSETTO:-0800
TZNAME:PST
DTSTART:20261101T090000
END:STANDARD
BEGIN:DAYLIGHT
TZOFFSETFROM:-0800
TZOFFSETTO:-0700
TZNAME:PDT
DTSTART:20270314T100000
END:DAYLIGHT
BEGIN:STANDARD
TZOFFSETFROM:-0700
TZOFFSETTO:-0800
TZNAME:PST
DTSTART:20271107T090000
END:STANDARD
END:VTIMEZONE
BEGIN:VEVENT
DTSTART;TZID=America/Los_Angeles:20260519T120000
DTEND;TZID=America/Los_Angeles:20260519T130000
DTSTAMP:20260421T232909
CREATED:20260422T031418Z
LAST-MODIFIED:20260422T031418Z
UID:17686-1779192000-1779195600@wellstudiodublin.com
SUMMARY:WORKSHOP: Ballet Basics
DESCRIPTION:Join Katie D for a journey into the world of ballet with our Ballet Basics – 6 Week Series! This workshop is designed for those eager to explore the graceful art of ballet and learn more about the fundamental techniques. \nSchedule:\nTuesdays | 12:00 PM – 1:00 PM\nDates: May 19 – June 23 \nThroughout this workshop\, participants will work towards mastering the essentials of ballet\, including:\nBallet Barre: Gain strength and flexibility through a series of structured exercises at the barre.\nFloor Work: Enhance your technique with various movements and positions on the floor.\nChoreography: Experience the joy of dance by learning and performing simple ballet sequences. \nThis workshop series offers a wonderful opportunity to improve your physical fitness while indulging in a fun and creative activity. Whether you’re a beginner or someone looking to refine your skills\, our Ballet Basics series provides a welcoming environment for all. Embrace the elegance of ballet and discover the joy of dance! \n  \n$40 for 1 class\, $200 for all 6
URL:https://wellstudiodublin.com/studio-event/workshop-ballet-basics/
LOCATION:The Well Studio\, 7151 Regional St.\, Dublin\, CA\, 94568
CATEGORIES:Workshop
ATTACH;FMTTYPE=image/png:https://wellstudiodublin.com/wp-content/uploads/2026/04/Website-Events-600-x-600-px-43.png
END:VEVENT
END:VCALENDAR